BEGIN:VCALENDAR
VERSION:2.0
PRODID:-//wp-events-plugin.com//7.2.3.1//EN
BEGIN:VEVENT
UID:198@alpenverein-jena.de
DTSTART:20200425T090000Z
DTEND:20200425T150000Z
DTSTAMP:20200122T125309Z
URL:https://alpenverein-jena.de/events/arbeitseinsatz-helenenstein-huette/
SUMMARY:Arbeitseinsatz Helenenstein-Hütte
DESCRIPTION:
END:VEVENT
END:VCALENDAR