BEGIN:VCALENDAR
VERSION:2.0
PRODID:-//wp-events-plugin.com//7.2.3.1//EN
BEGIN:VEVENT
UID:306@alpenverein-jena.de
DTSTART:20250624T060000Z
DTEND:20250629T140000Z
DTSTAMP:20250228T202101Z
URL:https://alpenverein-jena.de/events/arbeitseinsatz-wegebau-neue-thuerin
 ger-huette/
SUMMARY:Arbeitseinsatz Wegebau Neue Thüringer Hütte
DESCRIPTION:Liebe Bergfreundinnen und Bergfreunde\,\n\nHast Du während Dei
 ner Gebirgstouren auf den mühsam in die Hänge\ngebrochenen Wegen und kun
 stvoll gebauten Stiegen nicht auch schonmal\nehrfürchtig an die fleißige
 n Hände gedacht\, die all das fernab\njeder technischen Infrastruktur ges
 chaffen haben?\n\nWenn auch Du einmal Deinen Teil zum Wegebau beitragen m
 öchtest\, hast\ndu hier die Möglichkeit die Wege zu unserer Neuen Thüri
 nger Hütte\nim Frühjahr für die vielen Gäste und Wanderer mit flott zu
  machen.\nDazu zählen u.a. das Beräumen von Muren und restlichen\nSchnee
 brettern über den Rinnen\, die Sicherung der Serpentinen vor\nSteinschlä
 gen\, das trittsichere Herrichten von Bachquerungen\, und\neiniges mehr.\n
 \nDie Arbeiten sind also körperlich anspruchsvoll - jedoch entschädigt\n
 Dein Stolz auf einen sinnvollen Beitrag für die Sicherheit der\nWanderer 
 geleistet und etwas bleibendes zurückgegeben zu haben.\n\nDie Wegbauarbei
 ten finden vom 24. bis 29. Juni 2025 statt. Teilweise Teilnahmen sind nat
 ürlich möglich.\n\nFür  freie Kost (3 Getränke und 3 Mahlzeiten pro T
 ag) und Logie für fleißige Mitanpacker ist gesorgt.\n\nAnfahrt in Fahrge
 meinschaften werden pauschal vergütet.\n\nWenn Du also Interesse hast und
  Dich fit fühlst\, in der Höhenluft zu\nschaffen dann melde Dich bitte b
 eim Wegebauwart Thomas Heppner zur\nweiteren Abstimmung.\n\nWir freuen uns
  auf Eure Anmeldungen.\n\nHerzliche Grüße\n\nUwe und Thomas\n--\n\n1. Vo
 rsitzender des Neue Thüringer Hütte e.V.\nUwe Hofmann\nKontakt@nth-huett
 e.de\n\n--\n\nWegewart des Neue Thüringer Hütte e.V.\n\nThomas Heppner\n
 \nmonsieur@thomas-heppner.de\n\nhttp://nth-huette.de
LOCATION:Neue Thüringer Hütte\, Habachtal\, Bramberg\, Österreich
X-APPLE-STRUCTURED-LOCATION;VALUE=URI;X-ADDRESS=Habachtal\, Bramberg\, Öst
 erreich;X-APPLE-RADIUS=100;X-TITLE=Neue Thüringer Hütte:geo:0,0
END:VEVENT
END:VCALENDAR