BEGIN:VCALENDAR
VERSION:2.0
PRODID:-//wp-events-plugin.com//7.2.3.1//EN
BEGIN:VEVENT
UID:334@alpenverein-jena.de
DTSTART:20260418T220000Z
DTEND:20260418T220000Z
DTSTAMP:20260329T212004Z
URL:https://alpenverein-jena.de/events/fruehjahrswanderung-mit-christoph-v
 orwerg/
SUMMARY:Frühjahrswanderung mit Christoph Vorwerg
DESCRIPTION:Frühjahrswanderung des DAV – Sektion Jena\n\n\nam Sonntag\, 
 den 19. April 2026\n\nLiebe Mitglieder des Deutschen Alpenvereins\, insbes
 ondere der Sektion Jena\,\n\nich lade euch herzlich zur diesjährigen Frü
 hjahrswanderung ein – eine schöne Gelegenheit\, gemeinsam den Frühling
  in unserer wunderbaren Region zu genießen.\nThema: Wandern auf der alten
  Autobahn A4 durch das Leutratal\n\nWanderroute:\nUnsere Wanderung beginnt
  an der Freien Waldorfschule\, von wo aus wir nach wenigen hundert Metern 
 das malerische Leutratal erreichen. Hier werden wir von einem Blütenmeer 
 aus Adonisröschen\, unzähligen Schlüsselblumen und Veilchen empfangen. 
 Mit etwas Glück können wir bereits die ersten Orchideen des Jahres bewun
 dern. Weiter geht es auf der zurück gebauten alten A4\, wo wir die Neuver
 legung des Flussbettes der Leutra bestaunen können. Hinter Pösen führt 
 unser Weg auf den roten Wanderweg. Hier legen wir eine Pause im "Fuchsbau"
  ein\, wo wir uns selbst verpflegen. Frisch gestärkt setzen wir unseren W
 eg bis zum Cospoth fort\, von wo aus wir einen atemberaubenden Blick über
  das wunderschöne Jena genießen können. Schließlich führt uns der Rü
 ckweg zurück nach Jena Göschwitz\, wo unsere Wanderung am Startpunkt end
 et.\nDiese Route bietet eine wunderbare Mischung aus Naturerlebnissen und 
 interessanten landschaftlichen Veränderungen.\n\nSonntag\, 19.04.2026 um 
 10 Uhr\nTreffpunkt Jena Göschwitz \, Freie Waldorfschule Jena\, Alte Hau
 ptstr. 15\, 07745 Jena    Am Parkplatz für Pkw.\nAnreise auch mit Bah
 n oder Bus -Haltestelle Göschwitz- möglich.\n\nTour-Infos:\nStrecke: ca.
  15 km\n⏱️Dauer: etwa 3\,5 Stunden (zzgl. Pausen)\n⬆️Aufstieg: ca.
  350 Höhenmeter\n\n\nAnspruch: leicht – gut geeignet für alle mit norm
 aler Kondition\n\nIch freue mich sehr auf eine rege Teilnahme\, schöne Ge
 spräche unterwegs und einen rundum gelungenen Wandertag mit euch.\n\nEine
  Anmeldung ist nicht erforderlich.\nBei Fragen schreibt mir gerne:\nMail: 
 christophvorwerg@googlemail.com\n\nHerzliche Grüße\nEuer Christoph\n(Wan
 derführer und interkultureller Pilgerbegleiter)\n\n
END:VEVENT
END:VCALENDAR