BEGIN:VCALENDAR
VERSION:2.0
PRODID:-//wp-events-plugin.com//7.2.3.1//EN
BEGIN:VEVENT
UID:315@alpenverein-jena.de
DTSTART:20250927T080000Z
DTEND:20250927T160000Z
DTSTAMP:20250826T113209Z
URL:https://alpenverein-jena.de/events/grundkurs-mountainbike-fahrtechnik-
 2/
SUMMARY:Grundkurs Mountainbike Fahrtechnik
DESCRIPTION:&nbsp\;\n\n&nbsp\;\n\n&nbsp\;\n\nIn diesem Kurs werden wir uns 
 mit den grundlegenden Techniken beim Mountainbiken befassen und vor allem 
 üben\, üben \, üben.\n\nKursinhalt:\n\n 	Grundposition auf dem Mountain
 bike\n 	Be-/Entlasten der Räder und das Überfahren von Hindernissen\n 	r
 ichtig Bremsen\n 	verschiedene Kurventechniken\n\nAblauf:\n\n 	Treffpunkt:
  10:00 Uhr auf dem Parkplatz am Gries\n 	Vormittag: Theorie und praktische
  Übungen\n 	Nachmittag:  Üben auf dem Trail\n 	Abschluss: ca. 18:00 Uhr
 \n\nMitzubringen sind ein Mountainbike ohne technische Mängel und ein Hel
 m. Mittagessen könnt ihr in der Nähe kaufen oder ihr bringt euch etwas m
 it.\n\nDie verbindliche Anmeldung erfolgt per E-Mail an: mountainbike@alpe
 nverein-jena.de\n\nDie Teilnehmerzahl ist auf 8 begrenzt\, um ein individu
 elles Feedback zu ermöglichen.\n\n&nbsp\;\n\nIch freue mich auf euch!\n\n
 Euer Marcel\n\n&nbsp\;
LOCATION:Parkplatz am Gries\, 07743 Jena\, Am Gries\, Jena\, Deutschland
X-APPLE-STRUCTURED-LOCATION;VALUE=URI;X-ADDRESS=Am Gries\, Jena\, Deutschla
 nd;X-APPLE-RADIUS=100;X-TITLE=Parkplatz am Gries\, 07743 Jena:geo:0,0
END:VEVENT
END:VCALENDAR