BEGIN:VCALENDAR
VERSION:2.0
PRODID:-//wp-events-plugin.com//7.2.3.1//EN
BEGIN:VEVENT
UID:231@alpenverein-jena.de
DTSTART;VALUE=DATE:20220806
DTEND;VALUE=DATE:20220808
DTSTAMP:20220701T120705Z
URL:https://alpenverein-jena.de/events/kletterkurs-outdoor-2/
SUMMARY:Kletterkurs Outdoor
DESCRIPTION:Ein Kurs für Fortgeschrittene\, die das selbstständige Vorste
 igen mit dem dazugehörigen Vorstiegssichern sicher beherrschen. Zu den In
 halten vom Kletterschein Vorstieg kommt das verhalten am Fels\, ein angepa
 sstes Sicherungsverhalten\, das Routen- und Topolesen sowie das Bauen von 
 Standplätzen und das Abseilen hinzu.\nKursdauer\nHier geht es um einen Ta
 gesausflug bzw. einen Wochenendausflug. Die genauen Bedingungen sprechen w
 ir in der Gruppe der Teilnehmer ab. Auch der genaue Ort wird abgesprochen.
 \nAusrüstung\nGurt und Schuhe sollte jeder seine eigenen mitbringen. Alle
  weiteren Materialien werden wir nach Absprache aus dem DAV organisieren. 
 Da es sich um einen Tages- bzw. einen Mehrtagesausflug handelt hat sich je
 der um ausreichend Verpflegung und Getränke für sich zu kümmern.\nVorau
 ssetzung\nDAV Kletterschein Vorstieg oder einmalige/mehrmalige Teilnahme b
 ei der Sportklettergruppe um sein Vorstiegskönnen nachzuweisen.\nVorberei
 tung\nZur Vorbereitung des Kurses sollte jeder Teilnehmer mindestens einen
  Abend bei der Sportklettergruppe (Donnerstags ab 18 Uhr) mitgeklettert se
 in. Hier findet auch eine ausführliche Planung statt.\n\n\n\nInhalte\n[em
 beddoc url="https://alpenverein-jena.de/wp-content/uploads/2022/05/1702-Kl
 etterschein-Outdoor-Broschuere_OL.pdf" height="878px" viewer="google"]\n\n
 &nbsp\;\n\nBitte nutzt das Kommentarfeld um euer aktuelles Kletterniveau u
 nd eure Kursziele anzugeben!
ATTACH;FMTTYPE=image/jpeg:https://alpenverein-jena.de/wp-content/uploads/2
 022/05/KletterbuchOutdoorCover.jpg
CATEGORIES:Kletterkurse,Veranstaltungen
END:VEVENT
END:VCALENDAR