BEGIN:VCALENDAR
VERSION:2.0
PRODID:-//wp-events-plugin.com//7.2.3.1//EN
BEGIN:VEVENT
UID:289@alpenverein-jena.de
DTSTART;VALUE=DATE:20240816
DTEND;VALUE=DATE:20240819
DTSTAMP:20240611T064242Z
URL:https://alpenverein-jena.de/events/klettersteige-und-oder-sportkletter
 n-alpinessportklettern-im-wetterstein/
SUMMARY:Klettersteige und oder Sportklettern/ Alpinessportklettern im Wette
 rstein
DESCRIPTION:Termin: Freitag 16.08.2024 bis Sonntag 18.08.2024\n\nOrt: Wette
 rsteingebirge (Garmisch-Partenkirchen)\nHöllentalangerhütte (1387 m)\nKr
 euzeckhaus (1652 m)\n\nTeilnehmer: 5-7\n\nTeilnahmegebühr:\n- Teilnahmege
 bühr: 80 Eu inklusive Unterkunft\, Klammgebühr\, Kosten Kletterseiltrans
 port\n- Zuzüglich Verpflegung und Seilbahn für Abstieg\n\nInhalt: Klette
 rsteige/Alpinwandern/Klettern\n\nAnreise:\nEntweder mit PKW oder mit der B
 ahn möglich\, bei getrennter Anreise ist der Treffpunkt vor Ort an der Ta
 lstation der Kreuzeckbahn bei Garmisch-Partenkirchen.\n\nmit den öffentli
 chen Verkehrsmitteln: Ab Bahnhof Garmisch-Partenkirchen weiter mit der Zah
 nradbahn der Bayerischen Zugspitzbahn (der separate Bahnhof befindet sich 
 nur wenige Meter von der Deutschen Bahn entfernt). Die Ausstiegsstelle lau
 tet: Kreuzeck-/Alpspitzbahn\nAchtung: Mit dem Deutschlandticket kann man d
 ie Zugspitzbahn bis Grainau nutzen \, also bis Kreuzeckbahnhof oder Hammer
 sbach möglich!\nmit dem PKW: Die Zieladresse lautet: Kreuzeckbahn\, Am Kr
 euzeckbahnhof 1\, 82467 Garmisch-Partenkirchen\n\nTourenplanung\n\nAnreise
  Freitag so das Ankunft bis 17 Uhr an der Kreuzeckbahn gewährleistet ist 
 (Treffpunkt und Abfahrt in Jena mit PKW pünktlich 11 Uhr\, Bahn entsprech
 end eher).\nWer nicht Vormittags in Jena los fahren kann\, kann auch bis 1
 7 Uhr zur Kreuzeckbahn oder nach Hammersbach kommen und schafft den Aufsti
 eg noch pünktlich zum Abendessen auf die Höllentalangerhütte (Warmes Es
 sen 18-20 Uhr)\, die Riffelspitze ist dann halt nur nicht möglich\n\nFrei
 tag 16.08.: - Anreise 8 Uhr Start Jena (PKW\, Zugverbindungen Jena West 7:
 10 Uhr)\n- Treffpunkt vor Ort spätestens 14 Uhr Parkplatz Kreuzeckbahn\n-
  Materialtransport für Sonntag mit Seilbahn (Kletterseile\, Exen\, Friend
 s\, Keile! kein Transport von Koffern oder sonstigen Taschen!)\n- Aufstieg
  zur Höllentalangerhütte über die sehenswerte Höllentalklamm\nZustieg 
 zur Hütte ca 2h auf guten Wegen\n- Wenn es die Zeit zulässt Aufstieg zur
  südlichen Riffelspitze oder so\n- gemeinsames Abendessen\, Tourenbesprec
 hung für den Folgetag\n\nSamstag 17.08.: - Aufstieg auf die Alpspitze (Gi
 pfel 2628 m) über das Matheisenkar (versicherter Steig/Klettersteig)\n- S
 chwierigkeit UIAA: I-II\, Klettersteig: A/B\, zwei kurze Stellen B/C\n- Au
 fstieg 1350 hm\n- Abstieg zum Kreuzeckhaus\, je nach Bedingungen und Uhrze
 it\n(Frequentierung der Alpspitze) entweder über Alpspitzklettersteig ode
 r über den Nordwandsteig zum Kreuzeckhaus mit Abholung der Kletterseile a
 n der Seilbahn\n- Gesamtgehzeit ca 5-6 h\n- Abendessen auf dem Kreuzeckhau
 s und Besprechung für den Sonntag\n\nSonntag 18.08.: - zeitiges Frühstü
 ck!\n- Je nach Können/Lust/Laune entweder\na) Sport/ alpines Sportkletter
 n unterhalb der Alpspitze\nb) Klettersteig auf den Bernadainkopf über Mau
 erläuferklettersteig\nSchwierigkeit D/E\nc) auch die Alpspitze über den 
 Alpspitzklettersteig wäre möglich\nSchwierigkeit B\n(Achtung: ggf müsse
 n wir die zweite Nacht auch auf der Höllentalangerhütte verbringen\, lan
 dschaftlich schöner\, dafür am Sonntag früh etwas längerer Zustieg.)\n
 - Abstieg mit der Seilbahn direkt zum Parkplatz am Kreuzeck\n- Heimreise: 
 Auto oder Zug\n- Zug: sinnvolle Zugverbindung ab dem Kreuzeckbahnhof um 17
 :33 Uhr 16:33 Uhr und 18:33 Uhr gibt es auch Verbindungen\, danach wird es
  schwieriger (Stand Mai 2024)\n\nAnforderungen:\nDies ist explizit kein Au
 sbildungskurs.\nKondition für 5-6 h Gehzeit und 1300 hm im Aufstieg sowie
  Schwindelfreiheit im ausgesetzten Gelände und Trittsicherheit im Alpinen
  ist auch im wenig schweren Gelände Grundvorraussetzung. Der Steig über 
 das Matheisenkar auf die Alpspitze am Samstag ist technisch einfach\, eben
 so der klassische Alpspitzklettersteig. Für den Mauerläuferklettersteig 
 ist ein sicheres begehen auch von schweren Klettersteigen erforderlich\, e
 ine zusätzliche Bandschlinge mit Schraubkarabiner für eine Zwischenrast 
 sind auch für reine Klettersteiggeher ratsam.\n\nZum Klettern am Sonntag 
 bieten sich einige schöne Klettertouren ab dem 4./5. Grad nach UIAA unter
 halb der Alpspitze. Der 6. Grad nach UIAA sowie Klettern im einfachen alpi
 nen Sportkletterrouten sollte sicher und angstfrei beherrscht werden. Die 
 beiden vorgeschlagenen kurzen Mehrseillängentouren sind optimale und insg
 esamt gut abgesicherte Touren die wenige selbst zulegende mobile Sicherung
 en erfordern und gute Trainingstouren. Der richtige Umgang mit mobilen Sic
 herungsgeräten (Friends und Keile) sollte wenigstens vom Vorsteiger jeder
  Seilschaft sicher beherrscht werden.\n\nVerantwortlich: Patrick Reingrube
 r\n\nAnmeldung bis: schnellstmöglich\ntouren@alpenverein-jena.de\n\nVorbe
 sprechung: keine\n\nAusrüstungsliste (Empfehlung)\nAllgemein: -Kleidung n
 ach belieben aber bitte sparsam packen wir müssen das meiste tragen!\n- S
 tirnlampe für Hütte und Notfall\n- Sonnenschutz\n- kleines erste Hilfe S
 et (Pflaster\, eine Mullbinde\, Rettungsdecke\, Handschuhe\, Pinzette)\n- 
 Hüttenschlafsack\n- Regenjacke und Regenhose\n- Wanderhose die auch zum K
 lettern geeignet ist\n- Biwacksack einer pro zwei Personen\n- dünne Mütz
 e\, dünne Handschuhe\n- Trinkblase oder ähnliches\, einige Riegel\n\nMat
 erial Klettersteige bzw für alle: solide Bergschuhe/Stiefel oder auch sol
 ide Zustiegsschuhe\n1x Helm\n1x Klettergurt\n1x Klettersteigset\n1x Bandsc
 hlinge 60 cm mit Schraubkarabiner oder Savelock\n1x Repschnur 6mm und 6 m 
 lang stark mit einem Schnapper\n\nEmpfohlenes zusätzliches Material Klett
 ern je Seilschaft für z.B Mehrseiltouren wie\nNebelgesepenst (UIAA IV) ht
 tps://wetterstein-bergfuehrer.de/alpsitze-nodlwand-nebelgespenst/\nund\nNo
 dlsuppn (UIAA 5+/ 6-) https://wetterstein-bergfuehrer.de/alpspitze-nodlwan
 d-nodlsuppn/\n(Topos für beide Touren unter den Links zu finden)\n\n- je 
 Seilschaft:\n- 1x Einfachseil mind. 30 m besser 60 m falls Notabseilen erf
 orderlich (bei plötzlichem Unwetter)\, oder zwei Halbseile mind. 30 m\n- 
 6x Sportkletterexen + 6x Alpine Exen (60 cm)\n- 4 Friends (2x Größe 2-3\
 , 2x 0\,3-0\,75)\n- kleines Set Keile\n\n- pro Person:\n- Autotuber wie z.
 B. Megajule oder sicher beherrschter Tuber wie ATC-Guide\n- 1x kurzer und 
 1x langer Prusik\n- 3 HMS Schrauber oder Savelock Karabiner (Standplatzbau
 )\n- 3 Schnapper (fürs Material)\n- 1 Bandschlingen 60 cm (Standplatzbau 
 und Sanduhr fädeln)\n- 1 Bandschlinge 120 cm (Standplatzbau und Sanduhr f
 ädeln)\n- 1x Reppschnur 6 mm 2m lang\n- ggf. Standplatzschlinge
CATEGORIES:Hochtour,Hochtouren,Veranstaltungen
END:VEVENT
END:VCALENDAR