BEGIN:VCALENDAR
VERSION:2.0
PRODID:-//wp-events-plugin.com//7.2.3.1//EN
BEGIN:VEVENT
UID:290@alpenverein-jena.de
DTSTART:20241029T183000Z
DTEND:20241029T203000Z
DTSTAMP:20241015T211111Z
URL:https://alpenverein-jena.de/events/lesung-peter-brunnert-bergsteigen-u
 nd-andere-missverstaendnisse/
SUMMARY:Lesung Peter Brunnert: Bergsteigen und andere Missverständnisse
DESCRIPTION:Peter Brunnert hatte Pech: Er wollte unbedingt Bergsteiger werd
 en\, doch seine Heimatstadt Hildesheim liegt in der norddeutschen Tiefeben
 e. Er blieb trotzdem stets bemüht\, ein guter Alpinist zu werden\, riskie
 rte einiges\, das meiste ging schief. Er fuhr gleichwohl weiter in die Ber
 ge und konnte seinen Kletterpannen immer etwas Komisches abgewinnen. Irgen
 dwann hat er begonnen\, das alles aufzuschreiben. Er interessiert sich vor
  allem für Geschichten\, bei denen nicht alles glatt läuft und ist recht
  froh\, dass er diese inzwischen nicht mehr alle selbst erleben muss. Nebe
 n den Selbstverstümmelungsgrotesken aus der Jugendzeit gibt’s auch sati
 rische Seitenhiebe auf unsere Warnwesten-Vollkaskogesellschaft und die Sch
 nupperkurs-Mafia. Dabei liegen die Fragen auf der Hand: Was bewegt einen M
 enschen\, Berge zu besteigen? Obwohl es anstrengend und gefährlich ist. I
 st Bergsteigen mehr als Sport? Oder einfach nur bekloppt? Und was hat das 
 alles mit Reinhold Messner zu tun?\n\nWebseite Peter Brunnert\n\nHörprobe
 n\n\nVideos\n\nVorverkauf über Jena-Kultur\n\nhttps://tickets.vibus.de/-/
 Jena/Melanchthonhaus/Saal/Lesung_mit_Peter_Brunnert/-/shop/00100175000000/
 vstdetails.aspx?VstKey=10017500004878000\n\n\nEintrittspreise:\n\n13\,50 E
 UR Erwachsene inkl. VVK-Gebühr\n\n11\,30 EUR Kinder bis 15 Jahre inkl. VV
 K-Gebühr\n\nVorverkauf über DAV\n\n\nWer sich die VVK sparen will\, der 
 kann noch bis 20. Oktober  unter horizontale@alpenverein-jena.de seine Ti
 ckets bestellen. Es folgt eine E-Mail mit der Aufforderung zur Bezahlung a
 uf unser DAV-Konto. Nach Zahlungseingang werden die Tickets als PDF-Datei 
 per E-Mail zugeschickt.\n\n\nEintrittspreise:\n\n12\,00 EUR Erwachsene\n\n
 10\,00 EUR Kinder\n\nAbendkasse\n\nEintrittspreise:\n\n12\,00 EUR Erwachse
 ne\n\n10\,00 EUR Kinder
CATEGORIES:Vorträge
LOCATION:Melanchthonhaus\, Hornstraße 4\, Jena\, Thüringen\, 07745\, Deut
 schland
X-APPLE-STRUCTURED-LOCATION;VALUE=URI;X-ADDRESS=Hornstraße 4\, Jena\, Thü
 ringen\, 07745\, Deutschland;X-APPLE-RADIUS=100;X-TITLE=Melanchthonhaus:ge
 o:0,0
END:VEVENT
END:VCALENDAR