BEGIN:VCALENDAR
VERSION:2.0
PRODID:-//wp-events-plugin.com//7.2.3.1//EN
BEGIN:VEVENT
UID:40@alpenverein-jena.de
DTSTART:20180426T170000Z
DTEND:20180426T200000Z
DTSTAMP:20180129T120628Z
URL:https://alpenverein-jena.de/events/mitgliederversammlung-2018/
SUMMARY:Mitgliederversammlung 2018
DESCRIPTION:Zur ordentlichen Mitgliederversammlung 2018 laden wir hiermit a
 lle Mitglieder der Sektion Jena des Deutschen Alpenverein gemäß §18 Abs
 chnitt 2 unserer Satzung\, am\nDonnerstag\, dem 26. April 2018\, um 19.00 
 Uhr\, in die Gaststätte „Grüne Tanne“\, ein.\n\n[embeddoc url="https
 ://alpenverein-jena.de/wp-content/uploads/2018/01/DAVmva2018.pdf" viewer="
 google" download="all"]
CATEGORIES:DAV Sitzungen,Öffentliche Vereinssitzungen,Veranstaltungen
LOCATION:Gasthaus Grüne Tanne\, Karl-Liebknecht-Str. 1\, Jena\, Thüringen
 \, 07749\, Deutschland
GEO:50.92868;11.59692999999993
X-APPLE-STRUCTURED-LOCATION;VALUE=URI;X-ADDRESS=Karl-Liebknecht-Str. 1\, Je
 na\, Thüringen\, 07749\, Deutschland;X-APPLE-RADIUS=100;X-TITLE=Gasthaus 
 Grüne Tanne:geo:50.92868,11.59692999999993
END:VEVENT
END:VCALENDAR