BEGIN:VCALENDAR
VERSION:2.0
PRODID:-//wp-events-plugin.com//7.2.3.1//EN
BEGIN:VEVENT
UID:313@alpenverein-jena.de
DTSTART:20250820T150000Z
DTEND:20250820T180000Z
DTSTAMP:20250806T121255Z
URL:https://alpenverein-jena.de/events/mountainbike-tour-2/
SUMMARY:Mountainbike Tour
DESCRIPTION:Liebe Mountainbiker*innen\n\nWir treffen uns zu einer abendlich
 en Mountainbike-Tour in den Kernbergen. Im Fokus steht das Miteinander\, d
 er lockere Plausch und der Spaß auf dem Trail. Wir fahren gemeinsam los u
 nd kommen gemeinsam an.\n\nWann: 20.08.2025\, 17:00-20.00 Uhr\n\nWo: Treff
 punkt ist am Märchenbrunnen\, Jena Paradies.\n\nWas: Mountainbike-Tour in
  moderatem Tempo mit Single Trails bis Schwierigkeit S2\, Dauer ca. 3h (in
 kl. Pausen)\n\nVoraussetzungen: ein Mountainbike in technisch gutem Zustan
 d und ein Helm\n\nIch freue mich\, euch zu sehen!\n\nEuer Marcel
CATEGORIES:MTB,Veranstaltungen
LOCATION:Jena Paradies Märchenbrunnen\, Paradies\, Jena\, Deutschland
X-APPLE-STRUCTURED-LOCATION;VALUE=URI;X-ADDRESS=Paradies\, Jena\, Deutschla
 nd;X-APPLE-RADIUS=100;X-TITLE=Jena Paradies Märchenbrunnen:geo:0,0
END:VEVENT
END:VCALENDAR