BEGIN:VCALENDAR
VERSION:2.0
PRODID:-//wp-events-plugin.com//7.2.3.1//EN
BEGIN:VEVENT
UID:288@alpenverein-jena.de
DTSTART:20240719T220000Z
DTEND:20240720T220000Z
DTSTAMP:20240608T183647Z
URL:https://alpenverein-jena.de/events/mtb-tour/
SUMMARY:MTB Tour
DESCRIPTION:Liebe freunde des MTB-Trailfahrens\,\n\nrelativ spontan haben w
 ir uns überlegt die Helenensteinhütte mal nicht nur als Wanderhütte anz
 upreisen\, sondern wollen euch mal zeigen\, dass man sie auch prima als Zw
 ischenstation für MTB Touren nutzen kann! Wer am Wochenende vom 20. auf d
 en 21. Juli Lust und Zeit hat kann sich gern mit uns in Verbindung setzen 
 bzw. sich für die Tour anmelden. Schwierigkeitsgrad und Anspruch des Trai
 ls sind noch vollkommen offen und würden an das Niveau aller Teilnehmer a
 ngepasst werden. Je nach dem werden wir vielleicht auch gemeinsam mehrere 
 Touren planen und in verschiedenen Gruppen unterwegs sein. Mitbringen soll
 tet ihr ein MTB (ohne Elektrounterstützung)\, Grundkenntnisse im Trail fa
 hren\, Lust neue Leute kennen zu lernen und die Zeit das Wochenende mit un
 s gemeinsam zu planen und zu organisieren.\n\nmtb@alpenverein-jena.de\n\nW
 ir freuen uns auf euch!\n\nBitte nutzt das Kommentarfeld um euer Niveau an
 zugeben und wie ambitioniert ihr die Tour gestalten wollt. Wir würden ggf
  mehrere Vorschläge und aussuchen und auch verschiedene anbieten.
CATEGORIES:Veranstaltungen
LOCATION:Helenensteinhütte\, Zum Helenenstein\, Rothenstein\, Thüringen\,
  Deutschland
GEO:50.85230775837184;11.622837461437939
X-APPLE-STRUCTURED-LOCATION;VALUE=URI;X-ADDRESS=Zum Helenenstein\, Rothenst
 ein\, Thüringen\, Deutschland;X-APPLE-RADIUS=100;X-TITLE=Helenensteinhüt
 te:geo:50.85230775837184,11.622837461437939
END:VEVENT
END:VCALENDAR