BEGIN:VCALENDAR
VERSION:2.0
PRODID:-//wp-events-plugin.com//7.2.3.1//EN
BEGIN:VEVENT
UID:286@alpenverein-jena.de
DTSTART:20250410T170000Z
DTEND:20250410T190000Z
DTSTAMP:20240421T103436Z
URL:https://alpenverein-jena.de/events/stammtisch-april-4/
SUMMARY:Stammtisch April
DESCRIPTION:\n\n\nLiebe Bergfreunde und Globetrotter\,\n\n\n\n\nauf diesem 
 Wege möchten wir an unseren nächsten Stammtisch erinnern.\n\n\n\n\n\nWes
 thimalaya - Unterwegs in den Bergen von  Ladakh\, Zanskar\, Spiti und Bal
 tistan – Joachim Hoffmann\n\n\n\n\n\n\n\nDonnerstag\, den 10. April 2025
 \, 19.00 Uhr\nGaststätte “Zur Noll”\, Oberlauengasse 19\, Jena\n\n\n
 \nZur Planung der Bestuhlung und der Bedienung in der Noll bitten wir um e
 ine vorherige Anmeldung an die Absender- E-Mail-Adresse (horizontale@alpen
 verein-jena.de)\nbis 08. April 2025.\n\n\n\nWir danken für Euer Verständ
 nis.\n\nWir freuen uns sehr\, Euch  wieder begrüßen zu können.\n\n\nBe
 rg heil!\n\n\nSiegfried Maahs\nSchriftführer Horizontale und Veranstaltun
 gswart DAV Sektion Jena\n\n\n
CATEGORIES:Stammtische
LOCATION:Gaststätte "Zur Noll"\, Oberlauengasse 19\, Jena\, Thüringen\, 0
 7743\, Deutschland
X-APPLE-STRUCTURED-LOCATION;VALUE=URI;X-ADDRESS=Oberlauengasse 19\, Jena\, 
 Thüringen\, 07743\, Deutschland;X-APPLE-RADIUS=100;X-TITLE=Gaststätte \"
 Zur Noll\":geo:0,0
END:VEVENT
END:VCALENDAR