BEGIN:VCALENDAR
VERSION:2.0
PRODID:-//wp-events-plugin.com//7.2.3.1//EN
BEGIN:VEVENT
UID:317@alpenverein-jena.de
DTSTART:20260211T230000Z
DTEND:20260211T230000Z
DTSTAMP:20251124T154546Z
URL:https://alpenverein-jena.de/events/stammtisch-februar-6/
SUMMARY:Stammtisch Februar
DESCRIPTION:\n\n\nLiebe Bergfreunde und Globetrotter\,\n\n\n\n\nauf diesem 
 Wege möchten wir an unseren nächsten Stammtisch erinnern.\n\n\n\n\n\nWar
 um in die Ferne schweifen – Auf Jenas Wanderwegen  – Rainer Hanemann\
 n\n\n\n\n\n\nDonnerstag\, den 12. Februar 2026\, 19.00 Uhr\nGaststätte 
 “Zur Noll”\, Oberlauengasse 19\, Jena\n\n\n\nZur Planung der Bestuhlu
 ng und der Bedienung in der Noll bitten wir um eine vorherige Anmeldung an
  die Absender- E-Mail-Adresse (horizontale@alpenverein-jena.de)\nbis 10. F
 ebruar 2026.\n\n\n\nWir danken für Euer Verständnis.\n\nWir freuen uns s
 ehr\, Euch  wieder begrüßen zu können.\n\n\nBerg heil!\n\n\nSiegfried 
 Maahs\nSchriftführer Horizontale und Veranstaltungswart DAV Sektion Jena\
 n\n
CATEGORIES:Stammtische
LOCATION:Gaststätte "Zur Noll"\, Oberlauengasse 19\, Jena\, Thüringen\, 0
 7743\, Deutschland
X-APPLE-STRUCTURED-LOCATION;VALUE=URI;X-ADDRESS=Oberlauengasse 19\, Jena\, 
 Thüringen\, 07743\, Deutschland;X-APPLE-RADIUS=100;X-TITLE=Gaststätte \"
 Zur Noll\":geo:0,0
END:VEVENT
END:VCALENDAR