BEGIN:VCALENDAR
VERSION:2.0
PRODID:-//wp-events-plugin.com//7.2.3.1//EN
BEGIN:VEVENT
UID:265@alpenverein-jena.de
DTSTART:20240111T180000Z
DTEND:20240111T200000Z
DTSTAMP:20231020T090116Z
URL:https://alpenverein-jena.de/events/stammtisch-januar-3/
SUMMARY:Stammtisch Januar
DESCRIPTION:\n\n\nLiebe Bergfreunde und Globetrotter\,\n\n\n\n\nauf diesem 
 Wege möchten wir an unseren nächsten Stammtisch erinnern.\n\n\n\n\n\nEcu
 ador &amp\; Galapagosinseln  – Eine Reise im Ausnahmezustand – Fam. R
 öseler\n\n\n\n\n\n\n\nDonnerstag\, den 11. Januar 2024\, 19.00 Uhr\nGasts
 tätte “Zur Noll”\, Oberlauengasse 19\, Jena\n\n\n\nZur Planung der B
 estuhlung und der Bedienung in der Noll bitten wir um eine vorherige Anmel
 dung an die Absender- E-Mail-Adresse (horizontale@alpenverein-jena.de)\nbi
 s 09. Januar 2024.\n\n\n\nWir danken für Euer Verständnis.\n\nWir freuen
  uns sehr\, Euch  wieder begrüßen zu können.\n\n\nBerg heil!\n\n\nSieg
 fried Maahs\nSchriftführer Horizontale und Veranstaltungswart DAV Sektion
  Jena\n\n
LOCATION:Gaststätte "Zur Noll"\, Oberlauengasse 19\, Jena\, Thüringen\, 0
 7743\, Deutschland
X-APPLE-STRUCTURED-LOCATION;VALUE=URI;X-ADDRESS=Oberlauengasse 19\, Jena\, 
 Thüringen\, 07743\, Deutschland;X-APPLE-RADIUS=100;X-TITLE=Gaststätte \"
 Zur Noll\":geo:0,0
END:VEVENT
END:VCALENDAR