BEGIN:VCALENDAR
VERSION:2.0
PRODID:-//wp-events-plugin.com//7.2.3.1//EN
BEGIN:VEVENT
UID:316@alpenverein-jena.de
DTSTART:20260114T230000Z
DTEND:20260114T230000Z
DTSTAMP:20260113T150850Z
URL:https://alpenverein-jena.de/events/stammtisch-januar-5/
SUMMARY:Stammtisch Januar
DESCRIPTION:\n\n\nLiebe Bergfreunde und Globetrotter\,\n\n\n\n\nauf diesem 
 Wege möchten wir an unseren nächsten Stammtisch erinnern.\n\n\n\n\n\nPat
 agonien – Durch die Wildnis bis nach Feuerland  – Tobias Schorcht\n\n
 \n\n\n\n\nDonnerstag\, den 15. Januar 2026\, 19.00 Uhr\nGaststätte “Zur
  Noll”\, Oberlauengasse 19\, Jena\n\n\n\nZur Planung der Bestuhlung und
  der Bedienung in der Noll bitten wir um eine vorherige Anmeldung an die A
 bsender- E-Mail-Adresse (horizontale@alpenverein-jena.de)\nbis 13. Janaur 
 2026.\n\n\n\nWir danken für Euer Verständnis.\n\nWir freuen uns sehr\, E
 uch  wieder begrüßen zu können.\n\n\nBerg heil!\n\n\nSiegfried Maahs\n
 Schriftführer Horizontale und Veranstaltungswart DAV Sektion Jena\n\n
CATEGORIES:Stammtische
LOCATION:Gaststätte "Zur Noll"\, Oberlauengasse 19\, Jena\, Thüringen\, 0
 7743\, Deutschland
X-APPLE-STRUCTURED-LOCATION;VALUE=URI;X-ADDRESS=Oberlauengasse 19\, Jena\, 
 Thüringen\, 07743\, Deutschland;X-APPLE-RADIUS=100;X-TITLE=Gaststätte \"
 Zur Noll\":geo:0,0
END:VEVENT
END:VCALENDAR