BEGIN:VCALENDAR
VERSION:2.0
PRODID:-//wp-events-plugin.com//7.2.3.1//EN
BEGIN:VEVENT
UID:318@alpenverein-jena.de
DTSTART:20260311T230000Z
DTEND:20260311T230000Z
DTSTAMP:20251124T155014Z
URL:https://alpenverein-jena.de/events/stammtisch-maerz-4/
SUMMARY:Stammtisch März
DESCRIPTION:\n\nLiebe Bergfreunde und Globetrotter\,\n\n\n\n\nauf diesem We
 ge möchten wir an unseren nächsten Stammtisch erinnern.\n\n\n\n\n\nRadre
 ise durch Kenia  – Christian Stange\n\n\n\n\n\nDonnerstag\, den 12. Mä
 rz 2026\, 19.00 Uhr\nGaststätte “Zur Noll”\, Oberlauengasse 19\, Jen
 a\n\n\n\nZur Planung der Bestuhlung und der Bedienung in der Noll bitten w
 ir um eine vorherige Anmeldung an die Absender- E-Mail-Adresse (horizontal
 e@alpenverein-jena.de)\nbis 10. März 2026.\n\n\n\nWir danken für Euer Ve
 rständnis.\n\nWir freuen uns sehr\, Euch  wieder begrüßen zu können.\
 n\n\nBerg heil!\n\n\nSiegfried Maahs\nSchriftführer Horizontale und Veran
 staltungswart DAV Sektion Jena\n
CATEGORIES:Stammtische
LOCATION:Gaststätte "Zur Noll"\, Oberlauengasse 19\, Jena\, Thüringen\, 0
 7743\, Deutschland
X-APPLE-STRUCTURED-LOCATION;VALUE=URI;X-ADDRESS=Oberlauengasse 19\, Jena\, 
 Thüringen\, 07743\, Deutschland;X-APPLE-RADIUS=100;X-TITLE=Gaststätte \"
 Zur Noll\":geo:0,0
END:VEVENT
END:VCALENDAR