BEGIN:VCALENDAR
VERSION:2.0
PRODID:-//wp-events-plugin.com//7.2.3.1//EN
BEGIN:VEVENT
UID:243@alpenverein-jena.de
DTSTART:20230309T180000Z
DTEND:20230309T200000Z
DTSTAMP:20221027T075853Z
URL:https://alpenverein-jena.de/events/stammtisch-maerz/
SUMMARY:Stammtisch März
DESCRIPTION:\n\nLiebe Bergfreunde und Globetrotter\,\n\n\n\n\nauf diesem We
 ge möchten wir an unseren nächsten Stammtisch erinnern.\n\n\n\n\n\nOstka
 nadas Traumroute im Indian Summer - Familie Steinbrück\n\n\n\n\n\n\nDonne
 rstag\, den 09. März 2023\, 19.00 Uhr\nGaststätte "Zur Noll"\, Oberlaue
 ngasse 19\, Jena\n\n\n\nZur Planung der Bestuhlung und der Bedienung in de
 r Noll bitten wir um eine vorherige Anmeldung an die Absender- E-Mail-Adre
 sse (horizontale@alpenverein-jena.de)\n bis 07. März 2023.\n\n\n\nWir dan
 ken für Euer Verständnis.\n\nWir freuen uns sehr\, Euch  wieder begrü
 ßen zu können.\n\n\nBerg heil!\n\n\nSiegfried Maahs\nSchriftführer Hori
 zontale und Veranstaltungswart DAV Sektion Jena\n
CATEGORIES:Stammtische,Vorträge
LOCATION:Gaststätte "Zur Noll"\, Oberlauengasse 19\, Jena\, Thüringen\, 0
 7743\, Deutschland
X-APPLE-STRUCTURED-LOCATION;VALUE=URI;X-ADDRESS=Oberlauengasse 19\, Jena\, 
 Thüringen\, 07743\, Deutschland;X-APPLE-RADIUS=100;X-TITLE=Gaststätte \"
 Zur Noll\":geo:0,0
END:VEVENT
END:VCALENDAR