BEGIN:VCALENDAR
VERSION:2.0
PRODID:-//wp-events-plugin.com//7.2.3.1//EN
BEGIN:VEVENT
UID:287@alpenverein-jena.de
DTSTART:20250508T170000Z
DTEND:20250508T190000Z
DTSTAMP:20240421T103820Z
URL:https://alpenverein-jena.de/events/stammtisch-mai-4/
SUMMARY:Stammtisch Mai
DESCRIPTION:\n\n\nLiebe Bergfreunde und Globetrotter\,\n\n\n\n\nauf diesem 
 Wege möchten wir an unseren nächsten Stammtisch erinnern.\n\n\n\n\n\nWie
  es zum Bau der Helenensteinhütte kam – Hüttenleben im Wandel der Zeit
 en - Hannes Teichmann\n\n\n\n\n\n\n\nDonnerstag\, den 08. Mai 2025\, 19.00
  Uhr\nGaststätte “Zur Noll”\, Oberlauengasse 19\, Jena\n\n\n\nZur Pl
 anung der Bestuhlung und der Bedienung in der Noll bitten wir um eine vorh
 erige Anmeldung an die Absender- E-Mail-Adresse (horizontale@alpenverein-j
 ena.de)\nbis 06. Mai 2025.\n\n\n\nWir danken für Euer Verständnis.\n\nWi
 r freuen uns sehr\, Euch  wieder begrüßen zu können.\n\n\nBerg heil!\n
 \n\nSiegfried Maahs\nSchriftführer Horizontale und Veranstaltungswart DAV
  Sektion Jena\n\n
CATEGORIES:Stammtische
LOCATION:Gaststätte "Zur Noll"\, Oberlauengasse 19\, Jena\, Thüringen\, 0
 7743\, Deutschland
X-APPLE-STRUCTURED-LOCATION;VALUE=URI;X-ADDRESS=Oberlauengasse 19\, Jena\, 
 Thüringen\, 07743\, Deutschland;X-APPLE-RADIUS=100;X-TITLE=Gaststätte \"
 Zur Noll\":geo:0,0
END:VEVENT
END:VCALENDAR