BEGIN:VCALENDAR
VERSION:2.0
PRODID:-//wp-events-plugin.com//7.2.3.1//EN
BEGIN:VEVENT
UID:202@alpenverein-jena.de
DTSTART:20201112T180000Z
DTEND:20201112T200000Z
DTSTAMP:20201030T211946Z
URL:https://alpenverein-jena.de/events/stammtisch-monat-november-3/
SUMMARY:fällt aus !!! wird verschoben\, Stammtisch Monat November
DESCRIPTION:"Ostkanadas Traumroute im Indian Summer" - von Familie Steinbr
 ück
CATEGORIES:Stammtische
LOCATION:Gaststätte "Zur Noll"\, Oberlauengasse 19\, Jena\, Thüringen\, 0
 7743\, Deutschland
X-APPLE-STRUCTURED-LOCATION;VALUE=URI;X-ADDRESS=Oberlauengasse 19\, Jena\, 
 Thüringen\, 07743\, Deutschland;X-APPLE-RADIUS=100;X-TITLE=Gaststätte \"
 Zur Noll\":geo:0,0
END:VEVENT
END:VCALENDAR