BEGIN:VCALENDAR
VERSION:2.0
PRODID:-//wp-events-plugin.com//7.2.3.1//EN
BEGIN:VEVENT
UID:200@alpenverein-jena.de
DTSTART:20200910T170000Z
DTEND:20200910T190000Z
DTSTAMP:20200226T220525Z
URL:https://alpenverein-jena.de/events/stammtisch-monat-september-2/
SUMMARY:Stammtisch Monat September
DESCRIPTION:"Peru - eine Tour durch die Cordillera Huayhuash"  von Norbert
  Miosga
LOCATION:Gaststätte "Zur Noll"\, Oberlauengasse 19\, Jena\, Thüringen\, 0
 7743\, Deutschland
X-APPLE-STRUCTURED-LOCATION;VALUE=URI;X-ADDRESS=Oberlauengasse 19\, Jena\, 
 Thüringen\, 07743\, Deutschland;X-APPLE-RADIUS=100;X-TITLE=Gaststätte \"
 Zur Noll\":geo:0,0
END:VEVENT
END:VCALENDAR