BEGIN:VCALENDAR
VERSION:2.0
PRODID:-//wp-events-plugin.com//7.2.3.1//EN
BEGIN:VEVENT
UID:9@alpenverein-jena.de
DTSTART:20170513T061000Z
DTEND:20170513T140000Z
DTSTAMP:20170428T214005Z
URL:https://alpenverein-jena.de/events/wanderung-im-elstertal/
SUMMARY:Wanderung im Elstertal
DESCRIPTION:von Berga nach Wünshendorf (mit Märchenwald)\, 12km Talweg\, 
 Einkehr in Märchenwaldhütte möglich.\n\n&nbsp\;\n\nTreffpunkt:\n\n 	8:1
 0Uhr Bahnhof Jena West\n\nAbfahrt:\n\n 	8:23Uhr\n\nRückfahrt:\n\n 	14.28U
 hr oder 15.37Uhr\n
CATEGORIES:Wanderungen
END:VEVENT
END:VCALENDAR